BEGIN:VCALENDAR
VERSION:2.0
PRODID:-//ChamberMaster//Event Calendar 2.0//EN
METHOD:PUBLISH
X-PUBLISHED-TTL:P3D
REFRESH-INTERVAL:P3D
CALSCALE:GREGORIAN
BEGIN:VEVENT
DTSTART:20140710T000000Z
DTEND:20140710T020000Z
X-MICROSOFT-CDO-ALLDAYEVENT:FALSE
SUMMARY:Nightly Dances During Dance Musicians Week
DESCRIPTION:Nightly Dances During Dance Musicians Week with Calling by David Kaynor\n\nand music by the Dance Musicians Week students & staff.\n\nJoin us for a lively set of evening dances during our Dance Musicians Week.
X-ALT-DESC;FMTTYPE=text/html:Nightly Dances During Dance Musicians Week with Calling by David Kaynor<br />\nand music by the Dance Musicians Week students &amp\; staff.<br />\nJoin us for a lively set of evening dances during our Dance Musicians Week.<br />\n<br />\n&nbsp\;
LOCATION:John C. Campbell Folk School One Folk School Road Brasstown\, NC 28902 Keith House Community Room
UID:e.256.24913
SEQUENCE:3
DTSTAMP:20260424T091844Z
URL:https://members.visitblairsvillega.com/events/details/nightly-dances-during-dance-musicians-week-07-09-2014-24913
END:VEVENT

END:VCALENDAR
