BEGIN:VCALENDAR
VERSION:2.0
PRODID:-//ChamberMaster//Event Calendar 2.0//EN
METHOD:PUBLISH
X-PUBLISHED-TTL:P3D
REFRESH-INTERVAL:P3D
CALSCALE:GREGORIAN
BEGIN:VEVENT
DTSTART:20170223T160000Z
DTEND:20170224T013000Z
X-MICROSOFT-CDO-ALLDAYEVENT:FALSE
SUMMARY:Nine Meals For $9 at Monet's
DESCRIPTION:COME JOIN US AT MONET'S FOR "FEBUARY" SPECIAL OF NINE MEALS AT $9.00 EACH\n\n\n\nDON'T FORGET WE HAVE A GREAT WINE AND BEER SELECTION (20 DRAFTS)\n\nALSO COME PLAY POOL FREE (AS LONG AS YOU ARE OVER 21)\n\n\n\nOR TRY OUT OUR DART BOARD OR OTHER GAMES IN THE PUB.
X-ALT-DESC;FMTTYPE=text/html:COME JOIN US AT MONET'S FOR "FEBUARY" SPECIAL OF NINE MEALS AT $9.00 EACH<br>\n<br>\nDON'T FORGET WE HAVE A GREAT WINE AND BEER SELECTION (20 DRAFTS)<br>\nALSO COME PLAY POOL FREE (AS LONG AS YOU ARE OVER 21)<br>\n<br>\nOR TRY OUT OUR DART BOARD OR OTHER GAMES IN THE PUB.
LOCATION:MONET'S ITALIAN GRILL 130 BLUE RIDGE STREET BLAIRSVILLE\, GA.
UID:e.256.67463
SEQUENCE:3
DTSTAMP:20260420T075146Z
URL:https://members.visitblairsvillega.com/events/details/nine-meals-for-9-at-monet-s-02-23-2017-67463
END:VEVENT

END:VCALENDAR
