BEGIN:VCALENDAR
VERSION:2.0
PRODID:-//ChamberMaster//Event Calendar 2.0//EN
METHOD:PUBLISH
X-PUBLISHED-TTL:P3D
REFRESH-INTERVAL:P3D
CALSCALE:GREGORIAN
BEGIN:VEVENT
DTSTART:20170821T130000Z
DTEND:20170821T170000Z
X-MICROSOFT-CDO-ALLDAYEVENT:FALSE
SUMMARY:NO Garden Tour this Monday
DESCRIPTION:We apologize\, but there are NO GARDEN TOURS of any kind today. Regular Garden Tours will take place next Monday.
X-ALT-DESC;FMTTYPE=text/html:We apologize\, but there are NO GARDEN TOURS of any kind today. Regular Garden Tours will take place next Monday.
LOCATION:The Georgia Mountain research & Education Center\, 3 miles south of the Blairsville Square.
UID:e.256.75345
SEQUENCE:3
DTSTAMP:20260419T210457Z
URL:https://members.visitblairsvillega.com/events/details/no-garden-tour-this-monday-75345
END:VEVENT

END:VCALENDAR
