BEGIN:VCALENDAR
VERSION:2.0
PRODID:-//ChamberMaster//Event Calendar 2.0//EN
METHOD:PUBLISH
X-PUBLISHED-TTL:P3D
REFRESH-INTERVAL:P3D
CALSCALE:GREGORIAN
BEGIN:VEVENT
DTSTART:20150214T140000Z
DTEND:20150214T170000Z
X-MICROSOFT-CDO-ALLDAYEVENT:FALSE
SUMMARY:No Greater Love 5k
DESCRIPTION:Join us at Meeks Park at 9am on Saturday\, February 14th (Valentine's Day) for the No Greater Love 5k to benefit Tricia Spear from the Mountain Shelter Thrift Store. Registration forms are available at: Mountain Shelter Thrift Store\, Seasons Inn\, and the Blairsville-Union County Chamber of Commerce. For registrations made by January 27 th\, t-shirts for the walk are guaranteed.
X-ALT-DESC;FMTTYPE=text/html:<p>Join us at Meeks Park at 9am on Saturday\, February 14th (Valentine&#39\;s Day) for the No Greater Love 5k to benefit Tricia Spear from the Mountain Shelter Thrift Store. Registration forms are available at: Mountain Shelter Thrift Store\, Seasons Inn\, and the Blairsville-Union County Chamber of Commerce. For registrations made by January 27 th\, t-shirts for the walk are guaranteed.<br />\n&nbsp\;</p>\n
LOCATION:Meeks Park
UID:e.256.33662
SEQUENCE:3
DTSTAMP:20260423T225747Z
URL:https://members.visitblairsvillega.com/events/details/no-greater-love-5k-02-14-2015-33662
END:VEVENT

END:VCALENDAR
