BEGIN:VCALENDAR
VERSION:2.0
PRODID:-//ChamberMaster//Event Calendar 2.0//EN
METHOD:PUBLISH
X-PUBLISHED-TTL:P3D
REFRESH-INTERVAL:P3D
CALSCALE:GREGORIAN
BEGIN:VEVENT
DTSTART:20161007T120000Z
DTEND:20161007T164500Z
X-MICROSOFT-CDO-ALLDAYEVENT:FALSE
SUMMARY:North GA Live 2 Lead
DESCRIPTION:North Ga Live2Lead is a simulcast of the Atlanta leadership conference. Live2Lead is a leader development experience designed to equip you with new perspectives\, practical tools and key takeaways. Learn from these world-class leadership experts\, be prepared to implement a new action plan\, and start leading when you get back to the office with renewed passion and commitment.
X-ALT-DESC;FMTTYPE=text/html:<span style="color:rgb(102\, 106\, 115)\; font-family:benton sans\,helvetica neue\,helvetica\,roboto\,arial\,sans-serif\; font-size:15px">North Ga Live2Lead is a simulcast of the Atlanta leadership conference. Live2Lead is a leader development experience designed to equip you with new perspectives\, practical tools and key takeaways. Learn from these world-class leadership experts\, be prepared to implement a new action plan\, and start leading when you get back to the office with renewed passion and commitment.</span>
LOCATION:North Ga Techincal College Conference Center 121 Meeks Ave Blairsville GA 30512
UID:e.256.59197
SEQUENCE:3
DTSTAMP:20260420T130740Z
URL:https://members.visitblairsvillega.com/events/details/north-ga-live-2-lead-59197
END:VEVENT

END:VCALENDAR
