BEGIN:VCALENDAR
VERSION:2.0
PRODID:-//ChamberMaster//Event Calendar 2.0//EN
METHOD:PUBLISH
X-PUBLISHED-TTL:P3D
REFRESH-INTERVAL:P3D
CALSCALE:GREGORIAN
BEGIN:VEVENT
DTSTART:20150516T140000Z
DTEND:20150516T210000Z
X-MICROSOFT-CDO-ALLDAYEVENT:FALSE
SUMMARY:North Georgia Boat Lift Grand Opening Party
DESCRIPTION:NGBL\, Marine Construction is having a grand opening party for our new location. We will have specials\, give-aways\, boats on display from Singleton Marine Group and a live remote from WJUL 97.5 FM.
X-ALT-DESC;FMTTYPE=text/html:NGBL\, Marine Construction is having a grand opening party for our new location. We will have specials\, give-aways\, boats on display from Singleton Marine Group and a live remote from WJUL 97.5 FM.
LOCATION:NGBL 13944 Appalachian Hwy Morganton\, GA 30560
UID:e.256.39993
SEQUENCE:3
DTSTAMP:20260423T182813Z
URL:https://members.visitblairsvillega.com/events/details/north-georgia-boat-lift-grand-opening-party-05-16-2015-39993
END:VEVENT

END:VCALENDAR
