BEGIN:VCALENDAR
VERSION:2.0
PRODID:-//ChamberMaster//Event Calendar 2.0//EN
METHOD:PUBLISH
X-PUBLISHED-TTL:P3D
REFRESH-INTERVAL:P3D
CALSCALE:GREGORIAN
BEGIN:VEVENT
DTSTART:20150421T120000Z
DTEND:20150421T200000Z
X-MICROSOFT-CDO-ALLDAYEVENT:FALSE
SUMMARY:North Georgia Farm Trail Agritourism Symposium
DESCRIPTION:Please join us on Tuesday\, April 21\, 2015\, at Southern Tree Plantation in Blairsville\, GA. You will have the opportunity to:\n\n\n	Visit a working farm\n	Network with other farmers\n	Learn about the latest in effective marketing strategies and on-farm activities\n	Hear first-hand testimonials from agritourism operators about their success\n	Listen to speakers who have direct ties to the agritourism community\n	Meet the members of the North Georgia Farm Trail cooperative\n\nPlease visit :  http://www.gafarmtrail.com/symposium/ for more information.
X-ALT-DESC;FMTTYPE=text/html:<p>Please join us on <strong>Tuesday\, April 21\, 2015</strong>\, at <a href="http://southerntreeplantation.net/" target="_blank" title="Southern Tree Plantation"><strong><font color="#0066cc">Southern Tree Plantation</font></strong></a> in Blairsville\, GA. You will have the opportunity to:</p>\n\n<ul>\n	<li>Visit a working farm</li>\n	<li>Network with other farmers</li>\n	<li>Learn about the latest in effective marketing strategies and on-farm activities</li>\n	<li>Hear first-hand testimonials from agritourism operators about their success</li>\n	<li>Listen to speakers who have direct ties to the agritourism community</li>\n	<li>Meet the members of the North Georgia Farm Trail cooperative</li>\n</ul>\nPlease visit <span style="font-family: &quot\;Calibri&quot\;\,&quot\;sans-serif&quot\;\; font-size: 11pt\; mso-fareast-font-family: Calibri\; mso-fareast-theme-font: minor-latin\; mso-bidi-font-family: &quot\;Times New Roman&quot\;\; mso-ansi-language: EN-US\; mso-fareast-language: EN-US\; mso-bidi-language: AR-SA\;"><font color="#000000">:&nbsp\; </font><a href="http://www.gafarmtrail.com/symposium/"><font color="#0000ff">http://www.gafarmtrail.com/symposium/</font></a> for more information.</span><br />\n&nbsp\;
LOCATION:Southern Tree Plantation\, Inc. 2226 Owltown Road Blairsville\, Ga 30512 http://www.southerntreeplantation.net
UID:e.256.37501
SEQUENCE:3
DTSTAMP:20260423T212457Z
URL:https://members.visitblairsvillega.com/events/details/north-georgia-farm-trail-agritourism-symposium-04-21-2015-37501
END:VEVENT

END:VCALENDAR
