BEGIN:VCALENDAR
VERSION:2.0
PRODID:-//ChamberMaster//Event Calendar 2.0//EN
METHOD:PUBLISH
X-PUBLISHED-TTL:P3D
REFRESH-INTERVAL:P3D
CALSCALE:GREGORIAN
BEGIN:VEVENT
DTSTART:20140906T130000Z
DTEND:20140906T210000Z
X-MICROSOFT-CDO-ALLDAYEVENT:FALSE
SUMMARY:North Georgia Gun Show
DESCRIPTION:The North Georgia Blairsville Gun Show will be held on Sep 6th - 7th\, 2014. This Blairsville\, Georgia gun show will be held at the Pat Haralson Memorial Civic Center and is hosted by North Georgia Gun Show of Georgia. All federal\, state and local firearm ordinances and laws must be obeyed.\n\nBUY\, SELL\, SWAP & TRADE...family friendly gun show with GA FFL's and non FFL's selling their gun collection.  We also bring in knife dealers BOTH custom and production. We have food at all our shows and do hourly giveaways.  We say\, "We are in the Gun Show Entertainment business."  We are serious about what we do...but why not provide a fun atmosphere?? Come on out and try a North GA Gun Show!
X-ALT-DESC;FMTTYPE=text/html:<u><span style="color: rgb(0\, 128\, 128)\;"><span style="font-size: 14pt\;"><span style="font-family: arial\,sans-serif\;"><span style="color: rgb(34\, 34\, 34)\;"><ins>The North Georgia Blairsville Gun Show will be held on Sep 6th - 7th\, 2014. This Blairsville\, Georgia gun show will be held at the Pat Haralson Memorial Civic Center and is hosted by North Georgia Gun Show of Georgia. All federal\, state and local firearm ordinances and laws must be obeyed.</ins></span></span></span></span><br />\n<span style="color: rgb(0\, 128\, 128)\;"><span style="font-size: 14pt\;"><span style="font-family: arial\,sans-serif\;"><span style="color: rgb(34\, 34\, 34)\;"><ins>BUY\, SELL\, SWAP &amp\; TRADE...family friendly gun show with GA FFL&#39\;s and non FFL&#39\;s selling their gun collection. &nbsp\;We also bring in knife dealers BOTH custom and production. We have food at all our shows and do hourly giveaways. &nbsp\;We say\, &quot\;We are in the Gun Show Entertainment business.&quot\; &nbsp\;We are serious about what we do...but why not provide a fun atmosphere?? Come on out and try a North GA Gun Show!</ins></span></span></span></span></u><br />\n&nbsp\;
LOCATION:Pat Haralson Memorial Civic Center
UID:e.256.25369
SEQUENCE:3
DTSTAMP:20260424T063050Z
URL:https://members.visitblairsvillega.com/events/details/north-georgia-gun-show-09-06-2014-25369
END:VEVENT

END:VCALENDAR
