BEGIN:VCALENDAR
VERSION:2.0
PRODID:-//ChamberMaster//Event Calendar 2.0//EN
METHOD:PUBLISH
X-PUBLISHED-TTL:P3D
REFRESH-INTERVAL:P3D
CALSCALE:GREGORIAN
BEGIN:VEVENT
DTSTART:20150906T140000Z
DTEND:20150906T200000Z
X-MICROSOFT-CDO-ALLDAYEVENT:FALSE
SUMMARY:North Georgia Gun Show
DESCRIPTION:North Georgia Gun Show - BUY\, SELL\, TRADE
X-ALT-DESC;FMTTYPE=text/html:North Georgia Gun Show - BUY\, SELL\, TRADE
LOCATION:Pat Harralson Civic Center
UID:e.256.40378
SEQUENCE:3
DTSTAMP:20260423T134152Z
URL:https://members.visitblairsvillega.com/events/details/north-georgia-gun-show-09-06-2015-40378
END:VEVENT

END:VCALENDAR
