BEGIN:VCALENDAR
VERSION:2.0
PRODID:-//ChamberMaster//Event Calendar 2.0//EN
METHOD:PUBLISH
X-PUBLISHED-TTL:P3D
REFRESH-INTERVAL:P3D
CALSCALE:GREGORIAN
BEGIN:VEVENT
DTSTART:20140907T140000Z
DTEND:20140907T200000Z
X-MICROSOFT-CDO-ALLDAYEVENT:FALSE
SUMMARY:North Georgia Gun Show
DESCRIPTION:The North Georgia Blairsville Gun Show will be held on Sep 6th - 7th\, 2014. This Blairsville\, Georgia gun show will be held at the Pat Haralson Memorial Civic Center and is hosted by North Georgia Gun Show of Georgia. All federal\, state and local firearm ordinances and laws must be obeyed.\n\nBUY\, SELL\, SWAP & TRADE...family friendly gun show with GA FFL's and non FFL's selling their gun collection.  We also bring in knife dealers BOTH custom and production. We have food at all our shows and do hourly giveaways.  We say\, "We are in the Gun Show Entertainment business."  We are serious about what we do...but why not provide a fun atmosphere?? Come on out and try a North GA Gun Show!
X-ALT-DESC;FMTTYPE=text/html:<p style="background: white\; margin: 0in 0in 0pt\; line-height: 23.1pt\;"><span style="color: rgb(34\, 34\, 34)\; font-family: &quot\;Arial&quot\;\,&quot\;sans-serif&quot\;\; font-size: 14pt\; mso-fareast-font-family: &quot\;Times New Roman&quot\;\;"><ins><font color="#008080">The North Georgia Blairsville Gun Show will be held on Sep 6th - 7th\, 2014. This Blairsville\, Georgia gun show will be held at the Pat Haralson Memorial Civic Center and is hosted by North Georgia Gun Show of Georgia. All federal\, state and local firearm ordinances and laws must be obeyed.</font></ins></span></p>\n\n<p style="background: white\; margin: 0in 0in 0pt\; line-height: 23.1pt\;"><span style="color: rgb(34\, 34\, 34)\; font-family: &quot\;Arial&quot\;\,&quot\;sans-serif&quot\;\; font-size: 14pt\; mso-fareast-font-family: &quot\;Times New Roman&quot\;\;"><ins><font color="#008080">BUY\, SELL\, SWAP &amp\; TRADE...family friendly gun show with GA FFL&#39\;s and non FFL&#39\;s selling their gun collection. &nbsp\;We also bring in knife dealers BOTH custom and production. We have food at all our shows and do hourly giveaways. &nbsp\;We say\, &quot\;We are in the Gun Show Entertainment business.&quot\; &nbsp\;We are serious about what we do...but why not provide a fun atmosphere?? Come on out and try a North GA Gun Show!</font></ins></span></p>\n
LOCATION:Pat Haralson Memorial Civic Center
UID:e.256.25373
SEQUENCE:3
DTSTAMP:20260424T063049Z
URL:https://members.visitblairsvillega.com/events/details/north-georgia-gun-show-09-07-2014-25373
END:VEVENT

END:VCALENDAR
