BEGIN:VCALENDAR
VERSION:2.0
PRODID:-//ChamberMaster//Event Calendar 2.0//EN
METHOD:PUBLISH
X-PUBLISHED-TTL:P3D
REFRESH-INTERVAL:P3D
CALSCALE:GREGORIAN
BEGIN:VEVENT
DTSTART:20170903T140000Z
DTEND:20170903T200000Z
X-MICROSOFT-CDO-ALLDAYEVENT:FALSE
SUMMARY:North Georgia Gun Show
DESCRIPTION:North Georgia Gun Show
X-ALT-DESC;FMTTYPE=text/html:North Georgia Gun Show
LOCATION:Pat Harralson Civic Center
UID:e.256.75201
SEQUENCE:3
DTSTAMP:20260419T192810Z
URL:https://members.visitblairsvillega.com/events/details/north-georgia-gun-show-75201
END:VEVENT

END:VCALENDAR
