BEGIN:VCALENDAR
VERSION:2.0
PRODID:-//ChamberMaster//Event Calendar 2.0//EN
METHOD:PUBLISH
X-PUBLISHED-TTL:P3D
REFRESH-INTERVAL:P3D
CALSCALE:GREGORIAN
BEGIN:VEVENT
DTSTART:20141025T140000Z
DTEND:20141025T190000Z
X-MICROSOFT-CDO-ALLDAYEVENT:FALSE
SUMMARY:North Georgia Motorcycle Show
DESCRIPTION:Awards In 9 Classes\n\nModern American\, Vintage American\n\nModern European\, Vintage European\n\nModern Japanese\, Vintage Japanese\n\nCompetition\, Custom\, Special Interest \n\nMust Be 25 Years or Older -\n\nNo fee To Show Bikes\n\n\n\nEntertainment - Door Prizes - Food
X-ALT-DESC;FMTTYPE=text/html:Awards In 9 Classes<br />\nModern American\, Vintage American<br />\nModern European\, Vintage European<br />\nModern Japanese\, Vintage Japanese<br />\nCompetition\, Custom\, Special Interest&nbsp\;<br />\nMust Be 25 Years or Older -<br />\nNo fee To Show Bikes<br />\n<br />\nEntertainment - Door Prizes - Food
LOCATION:North Georgia Technical College Hwy 515W Blairsville\, GA
UID:e.256.27675
SEQUENCE:3
DTSTAMP:20260424T045245Z
URL:https://members.visitblairsvillega.com/events/details/north-georgia-motorcycle-show-10-25-2014-27675
END:VEVENT

END:VCALENDAR
