BEGIN:VCALENDAR
VERSION:2.0
PRODID:-//ChamberMaster//Event Calendar 2.0//EN
METHOD:PUBLISH
X-PUBLISHED-TTL:P3D
REFRESH-INTERVAL:P3D
CALSCALE:GREGORIAN
BEGIN:VEVENT
DTSTART:20141228T160000Z
DTEND:20141228T200000Z
X-MICROSOFT-CDO-ALLDAYEVENT:FALSE
SUMMARY:North Georgia Zoo Open for Christmas Break
DESCRIPTION:We will be open for Christmas Break!\n\nDecember 26th-30th From: 11-3pm ( Weather permitting)\n\nJoin us on Christmas Break! Bring your old Christmas trees for our annual tree toss! \n\n\n\nSign up for our Behind the Scenes tour on January 18th from 2-4pm\n\nGet up close and personal!\n\n *With animals not seen on regular zoo visits.   \n\n*With babies from the nursery including bottle fed Kangaroos\, deer and more! \n\nExperience and take part  in the training  and enrichment of animals from Owls to Zebras. \n\n\n\nThese tour  are for those who want to spend more time learning\, petting and interacting with a variety of animals. These guided tours allow lots of time for pictures and interaction with the animals. Here you will get to visit with the nursery  animals\, touch\, feed and participate in training some amazing exotic animals and  more!\n\n Tour Details: Tour last 2- 2 1/2 hours. \n\nAllow 3 hours as this includes time at your leisure in the farm\, petting area.  \n\nRecommended for all ages.
X-ALT-DESC;FMTTYPE=text/html:We will be open for Christmas Break!<br>\nDecember 26th-30th From: 11-3pm ( Weather permitting)<br>\nJoin us on Christmas Break! Bring your old Christmas trees for our annual tree toss!&nbsp\;<br>\n<br>\n<strong>Sign up for our Behind the Scenes tour on January 18th from 2-4pm<br>\n<span style="font-size: 12px\;"><font color="#006600">Get up close and personal!</font><br>\n&nbsp\;</span></strong><span style="font-size: 12px\;"><strong>*With animals not&nbsp\;seen on regular zoo visits.&nbsp\;&nbsp\;&nbsp\;<br>\n*With babies from the&nbsp\;nursery including bottle fed Kangaroos\, deer and more!&nbsp\;<br>\nExperience and take part&nbsp\; in the training&nbsp\; and enrichment of animals from Owls to Zebras.&nbsp\;<br>\n<br>\nThese tour&nbsp\; are for those who want to spend more time learning\, petting and interacting with a variety of animals. These guided tours allow lots of time for pictures and interaction with the animals. Here you will get to visit with the nursery&nbsp\; animals\, touch\, feed and participate in training some amazing exotic animals and&nbsp\; more!</strong><br>\n<font color="#cc0000">&nbsp\;<u><strong>Tour Details</strong></u>: </font><font color="#cc0000"><strong>Tour last 2- 2 1/2 hours.&nbsp\;<br>\nAllow 3 hours as this includes time at your leisure in the farm\, petting area.&nbsp\;&nbsp\;<br>\nRecommended for all ages.</strong></font></span><br>\n&nbsp\;
LOCATION:North Georgia Zoo 2912 Paradise Valley Road Cleveland\, GA
UID:e.256.33272
SEQUENCE:3
DTSTAMP:20260424T020425Z
URL:https://members.visitblairsvillega.com/events/details/north-georgia-zoo-open-for-christmas-break-12-28-2014-33272
END:VEVENT

END:VCALENDAR
