BEGIN:VCALENDAR
VERSION:2.0
PRODID:-//ChamberMaster//Event Calendar 2.0//EN
METHOD:PUBLISH
X-PUBLISHED-TTL:P3D
REFRESH-INTERVAL:P3D
CALSCALE:GREGORIAN
BEGIN:VEVENT
DTSTART:20140927T220000Z
DTEND:20140928T000000Z
X-MICROSOFT-CDO-ALLDAYEVENT:FALSE
SUMMARY:Northeast Georgia Friends of the NRA Banquet & Auction
DESCRIPTION:The Northeast Georgia Friends of NRA are hosting their annual Banquet & Auction. Don't miss out on Food\, Fun\, Fellowship\, and Firearms.
X-ALT-DESC;FMTTYPE=text/html:The Northeast Georgia Friends of NRA are hosting their annual Banquet &amp\; Auction. Don&#39\;t miss out on Food\, Fun\, Fellowship\, and Firearms.
LOCATION:Pat Haralson Civic Center 165 Wellborn Street Blairsville\, Ga 30512
UID:e.256.25368
SEQUENCE:3
DTSTAMP:20260424T074419Z
URL:https://members.visitblairsvillega.com/events/details/northeast-georgia-friends-of-the-nra-banquet-auction-09-27-2014-25368
END:VEVENT

END:VCALENDAR
