BEGIN:VCALENDAR
VERSION:2.0
PRODID:-//ChamberMaster//Event Calendar 2.0//EN
METHOD:PUBLISH
X-PUBLISHED-TTL:P3D
REFRESH-INTERVAL:P3D
CALSCALE:GREGORIAN
BEGIN:VEVENT
DTSTART:20150606T140000Z
DTEND:20150606T210000Z
X-MICROSOFT-CDO-ALLDAYEVENT:FALSE
SUMMARY:Northeast Georgia Home & Garden Show
DESCRIPTION:Spring Home and Garden Shows\n\n- See the newest in home improvement products & services\, new homes & remodeling ideas\n\n- Furnishings\, accessories\, decorating & newest trends for today\n\n-The latest from floor to roof\, patio to pool\, inside and out\, landscaping and more
X-ALT-DESC;FMTTYPE=text/html:Spring Home and Garden Shows<br />\n- See the newest in home improvement products &amp\; services\, new homes &amp\; remodeling ideas<br />\n- Furnishings\, accessories\, decorating &amp\; newest trends for today<br />\n-The latest from floor to roof\, patio to pool\, inside and out\, landscaping and more
LOCATION:The Event Center at Fiedstone Hiawassee\, GA
UID:e.256.39917
SEQUENCE:3
DTSTAMP:20260423T165914Z
URL:https://members.visitblairsvillega.com/events/details/northeast-georgia-home-garden-show-06-06-2015-39917
END:VEVENT

END:VCALENDAR
