BEGIN:VCALENDAR
VERSION:2.0
PRODID:-//ChamberMaster//Event Calendar 2.0//EN
METHOD:PUBLISH
X-PUBLISHED-TTL:P3D
REFRESH-INTERVAL:P3D
CALSCALE:GREGORIAN
BEGIN:VEVENT
DTSTART:20170617T123000Z
DTEND:20170617T190000Z
X-MICROSOFT-CDO-ALLDAYEVENT:FALSE
SUMMARY:NSCA Registered Sporting Clays Shoot at Noontootla Creek Farms
DESCRIPTION:Noontootla Creek Farms is hosting an NSCA Registered Shoot on Saturday June 17th. The public is welcome to participate! The hours are 8:30 am to 3:00pm and a BBQ Lunch is available for $10. Entry fee is $58 for 100 targets or sub gauge entry is $30 for 50 targets. There will be HOA\, Class\, and Lewis Class options available.Wobble trap warm up is $10 for 25 targets. You can register online at iClays.com or call the pro shop at 706-838-0585.
X-ALT-DESC;FMTTYPE=text/html:Noontootla Creek Farms is hosting an NSCA Registered Shoot on Saturday June 17th. The public is welcome to participate! The hours are 8:30 am to 3:00pm and a BBQ Lunch is available for $10. Entry fee is $58 for 100 targets or sub gauge entry is $30 for 50 targets. There will be HOA\, Class\, and Lewis Class options available.Wobble trap warm up is $10 for 25 targets. You can register online at iClays.com or call the pro shop at 706-838-0585.
LOCATION:Directions are 3668 Newport Road Blue Ridge\, Ga.
UID:e.256.74155
SEQUENCE:3
DTSTAMP:20260419T233544Z
URL:https://members.visitblairsvillega.com/events/details/nsca-registered-sporting-clays-shoot-at-noontootla-creek-farms-74155
END:VEVENT

END:VCALENDAR
