BEGIN:VCALENDAR
VERSION:2.0
PRODID:-//ChamberMaster//Event Calendar 2.0//EN
METHOD:PUBLISH
X-PUBLISHED-TTL:P3D
REFRESH-INTERVAL:P3D
CALSCALE:GREGORIAN
BEGIN:VEVENT
DTSTART:20170429T140000Z
DTEND:20170429T203000Z
X-MICROSOFT-CDO-ALLDAYEVENT:FALSE
SUMMARY:Nuno Felting an Alpaca Scarf Class
DESCRIPTION:Now this is a fun class. I guarantee you will love it! You will learn to felt on fine fabric to create a fun scarf with a beautiful drape and fun texture. Using hand dyed silk chiffon we will add thin strips of alpaca fiber and other bits of fun texture\, like bamboo\, silk hankie\, mohair curls\, Angelina...the list of options goes on... in fun patterns and then wet felt them to create this unique\, soft fabric. All materials included. We begin the morning with homemade sweet breads\, coffee or tea. lunch is a warm yummy farm to table cozy affair: $99.00 each. All levels welcome Teacher: Holly Williams Holly is the owner of Lasso the Moon Alpaca Farm\, Lardworks Studio Inc and Laces of Lore Fiber Art. Holly has been teaching fiber art on the farm for over 10 years. Class Times: 10:00 am - 4:30 pm
X-ALT-DESC;FMTTYPE=text/html:Now this is a fun class. I guarantee you will love it! You will learn to felt on fine fabric to create a fun scarf with a beautiful drape and fun texture. Using hand dyed silk chiffon we will add thin strips of alpaca fiber and other bits of fun texture\, like bamboo\, silk hankie\, mohair curls\, Angelina...the list of options goes on... in fun patterns and then wet felt them to create this unique\, soft fabric. All materials included. We begin the morning with homemade sweet breads\, coffee or tea. lunch is a warm yummy farm to table cozy affair: $99.00 each. All levels welcome Teacher: Holly Williams Holly is the owner of Lasso the Moon Alpaca Farm\, Lardworks Studio Inc and Laces of Lore Fiber Art. Holly has been teaching fiber art on the farm for over 10 years. Class Times: 10:00 am - 4:30 pm
LOCATION:Lasso the Moon Alpaca Farm\, 106 Agape Drive\, Blairsville\, GA 30512
UID:e.256.69252
SEQUENCE:3
DTSTAMP:20260420T024107Z
URL:https://members.visitblairsvillega.com/events/details/nuno-felting-an-alpaca-scarf-class-69252
END:VEVENT

END:VCALENDAR
