BEGIN:VCALENDAR
VERSION:2.0
PRODID:-//ChamberMaster//Event Calendar 2.0//EN
METHOD:PUBLISH
X-PUBLISHED-TTL:P3D
REFRESH-INTERVAL:P3D
CALSCALE:GREGORIAN
BEGIN:VEVENT
DTSTART:20140310T230000Z
DTEND:20140311T000000Z
X-MICROSOFT-CDO-ALLDAYEVENT:FALSE
SUMMARY:Nutritional Cooking Class
DESCRIPTION:In celebration of the March 2014 National Nutrition Month\, Union General Hospital's registered dietician will educate attendees on how to prepare and cook nutritional and healthy meals.
X-ALT-DESC;FMTTYPE=text/html:In celebration of the March 2014 National Nutrition Month\, Union General Hospital&#39\;s registered dietician will educate attendees on how to prepare and cook nutritional and healthy meals.
LOCATION:Union General Hospital\, 2nd Floor Education Classroom
UID:e.256.23321
SEQUENCE:3
DTSTAMP:20260424T152723Z
URL:https://members.visitblairsvillega.com/events/details/nutritional-cooking-class-03-10-2014-23321
END:VEVENT

END:VCALENDAR
