BEGIN:VCALENDAR
VERSION:2.0
PRODID:-//ChamberMaster//Event Calendar 2.0//EN
METHOD:PUBLISH
X-PUBLISHED-TTL:P3D
REFRESH-INTERVAL:P3D
CALSCALE:GREGORIAN
BEGIN:VEVENT
DTSTART:20150815T160000Z
DTEND:20150815T180000Z
X-MICROSOFT-CDO-ALLDAYEVENT:FALSE
SUMMARY:NYR Organic Fall Product Launch and Opportunity Event
DESCRIPTION:Have you ever heard of Neal's Yard Remedies?  Did you know that their products are now available in the USA?  Only through Independent Consultants.\n\nYou can come and learn\, buy\, earn and even sell for yourself.\n\nCalling all holistic practitioners.  We would love for you to carry our line of health and wellness products\, skin and haircare.\n\nCertified Organic by the Soil Association.  Hand-made in the UK under European Skincare Guidelines.\n\nFamily Owned and Operated.  Debt Free.  Free personal website.  Low start-up cost.  \n\nNo purchase necessary to attend.  Free to all.  Invite your friends\, business owners\, relatives\, others.\n\n\n\nRSVP is recommended but not required.\n\nDoor Prizes.\n\nLunch available but not provided.\n\nFREE EVENT\n\nGuests welcome!  \n\n\n\nRSVP: To Kim Madren 706-897-4705 or CleanbeeOrganic@gmail.com
X-ALT-DESC;FMTTYPE=text/html:Have you ever heard of Neal&#39\;s Yard Remedies? &nbsp\;Did you know that their products are now available in the USA? &nbsp\;Only through Independent Consultants.<br />\nYou can come and learn\, buy\, earn and even sell for yourself.<br />\nCalling all holistic practitioners. &nbsp\;We would love for you to carry our line of health and wellness products\, skin and haircare.<br />\nCertified Organic by the Soil Association. &nbsp\;Hand-made in the UK under European Skincare Guidelines.<br />\nFamily Owned and Operated. &nbsp\;Debt Free. &nbsp\;Free personal website. &nbsp\;Low start-up cost. &nbsp\;<br />\nNo purchase necessary to attend. &nbsp\;Free to all. &nbsp\;Invite your friends\, business owners\, relatives\, others.<br />\n<br />\nRSVP is recommended but not required.<br />\nDoor Prizes.<br />\nLunch available but not provided.<br />\nFREE EVENT<br />\nGuests welcome! &nbsp\;<br />\n<br />\nRSVP: To Kim Madren 706-897-4705 or CleanbeeOrganic@gmail.com
LOCATION:G&G Bakery and Cafe\, Blairsville Hwy 515
UID:e.256.41372
SEQUENCE:3
DTSTAMP:20260423T134154Z
URL:https://members.visitblairsvillega.com/events/details/nyr-organic-fall-product-launch-and-opportunity-event-08-15-2015-41372
END:VEVENT

END:VCALENDAR
