BEGIN:VCALENDAR
VERSION:2.0
PRODID:-//ChamberMaster//Event Calendar 2.0//EN
METHOD:PUBLISH
X-PUBLISHED-TTL:P3D
REFRESH-INTERVAL:P3D
CALSCALE:GREGORIAN
BEGIN:VEVENT
DTSTART:20141122T180000Z
DTEND:20141122T230000Z
X-MICROSOFT-CDO-ALLDAYEVENT:FALSE
SUMMARY:Odom Springs Winery Tour
DESCRIPTION:Odom Springs 1st Winery Tour\n\n $20\, includes wine\n\nSaturday\, November 22 Starting at 1pm\n\n\n\nWine List: Earl's Reserve\, RoDawg Red\, Homemade Sin\, They Lord\, Mountain Cabernet Sauvignon\, Just Loaferin'\, and Sharptop Seyval\n\n\n\nNew Winery Hours: Wednesday - Saturday 11am til 6pm\n\nSunday 1pm til 5pm
X-ALT-DESC;FMTTYPE=text/html:<em><strong>Odom Springs 1st Winery Tour</strong></em><br />\n&nbsp\;$20\, includes wine<br />\nSaturday\, November 22 Starting at 1pm<br />\n<br />\nWine List: Earl&#39\;s Reserve\, RoDawg Red\, Homemade Sin\, They Lord\, Mountain Cabernet Sauvignon\, Just Loaferin&#39\;\, and Sharptop Seyval<br />\n<br />\nNew Winery Hours: Wednesday - Saturday 11am til 6pm<br />\nSunday 1pm til 5pm
LOCATION:Odom Springs Winery Odom Rd. 515 W to Nottely Dam Rd\, North to Odom Rd\, West to Winery at the end of Odom Rd #637 Blairsville\, GA
UID:e.256.27913
SEQUENCE:3
DTSTAMP:20260424T045250Z
URL:https://members.visitblairsvillega.com/events/details/odom-springs-winery-tour-11-22-2014-27913
END:VEVENT

END:VCALENDAR
