BEGIN:VCALENDAR
VERSION:2.0
PRODID:-//ChamberMaster//Event Calendar 2.0//EN
METHOD:PUBLISH
X-PUBLISHED-TTL:P3D
REFRESH-INTERVAL:P3D
CALSCALE:GREGORIAN
BEGIN:VEVENT
DTSTART:20150110T180000Z
DTEND:20150110T213000Z
X-MICROSOFT-CDO-ALLDAYEVENT:FALSE
SUMMARY:"Oil or Acrylics" You Decide.
DESCRIPTION:Sign Up Today If New Year's Resolutions include learning to paint\, Mountain Regional Arts & Crafts Guild in Hiawassee\, GA can help make that resolution a reality.\n\nTwo painting workshops for beginners will be offered in January at the ArtWorks Artisan Centre. Class size is limited to 6 for each workshop\, insuring individualized instruction.\n\nInstructor Paula Canup\, a Guild member from Hayesville\, NC\, will teach "Oil or Acrylics" You Decide\, a class for the absolute beginner on Saturday\, January 10th\, from 1 - 4:30 pm. All materials will be provided. Students will have the opportunity to learn the characteristics of both oil and acrylic paint by doing a small floral painting in each medium. Handouts on materials and tips for getting started with painting will be provided. This class sold out when first offered in November\, so call soon to reserve your place.\n\nCanup will also be teaching a class on "Landscapes in Acrylics for Beginners" on Tuesday\, Jan. 20th\, from 1 - 4:30 pm. Materials will be provided for this workshop as well. Students will learn the basics of painting skies\, mountains\, foliage\, and water.\n\nThe cost of each workshop is $35. Classes must be paid for when registering. In addition\, there will be a $5 materials fee for each workshop to be paid to the instructor on the day of the class.\n\nFor additional information and to sign up for either class please visit ArtWorks in Hiawassee or call the store at 706-769-0932 and register using a credit card.\n\nArtWorks is located at 232B Chatuge Way in the Hiawassee Business Centre\n\nOpen Monday through Saturday from 10 to 5.
X-ALT-DESC;FMTTYPE=text/html:<span style="font-size: 12px\;">Sign Up Today If New Year&#39\;s Resolutions include learning to paint\, Mountain Regional Arts &amp\; Crafts Guild in Hiawassee\, GA can help make that resolution a reality.<br />\nTwo painting workshops for beginners will be offered in January at the ArtWorks Artisan Centre. Class size is limited to 6 for each workshop\, insuring individualized instruction.<br />\nInstructor Paula Canup\, a Guild member from Hayesville\, NC\, will teach &quot\;Oil or Acrylics&quot\; You Decide\, a class for the absolute beginner on Saturday\, January 10th\, from 1&nbsp\;- 4:30 pm. All materials will be provided. Students will have the opportunity to learn the characteristics of both oil and acrylic paint by doing a small floral painting in each medium. Handouts on materials and tips for getting started with painting will be provided. This class sold out when first offered in November\, so call soon to reserve your place.<br />\nCanup will also be teaching a class on &quot\;Landscapes in Acrylics for Beginners&quot\; on Tuesday\, Jan. 20th\, from 1 - 4:30 pm. Materials will be provided for this workshop as well. Students will learn the basics of painting skies\, mountains\, foliage\, and water.<br />\nThe cost of each workshop is $35. Classes must be paid for when registering. In addition\, there will be a $5 materials fee for each workshop to be paid to the instructor on the day of the class.<br />\nFor additional information and to sign up for either class please visit ArtWorks in Hiawassee or call the store at 706-769-0932 and register using a credit card.<br />\nArtWorks is located at 232B Chatuge Way in the Hiawassee Business Centre<br />\nOpen Monday through Saturday from 10 to 5.</span>
LOCATION:ArtWorks 232B Chatuge Way in the Hiawassee Business Centre
UID:e.256.28812
SEQUENCE:3
DTSTAMP:20260424T003356Z
URL:https://members.visitblairsvillega.com/events/details/oil-or-acrylics-you-decide-01-10-2015-28812
END:VEVENT

END:VCALENDAR
