BEGIN:VCALENDAR
VERSION:2.0
PRODID:-//ChamberMaster//Event Calendar 2.0//EN
METHOD:PUBLISH
X-PUBLISHED-TTL:P3D
REFRESH-INTERVAL:P3D
CALSCALE:GREGORIAN
BEGIN:VEVENT
DTSTART:20151025T160000Z
DTEND:20151025T230000Z
X-MICROSOFT-CDO-ALLDAYEVENT:FALSE
SUMMARY:Oktoberfest Limo Tour
DESCRIPTION:Come celebrate Oktoberfest at the Helen\, GA Festhalle features German Oom-pah bands that play waltzes\, polkas and the "Chicken Dance". Enjoy a German feast which includes one wurst (your Choice)\, sauerkraut\, and one side (red cabbage or German potato salad)\, dessert (German Chocolate cake or cheesecake)\, and a beverage (excluding beer and wine).
X-ALT-DESC;FMTTYPE=text/html:<span style="font-size:14px\;"><span style="font-family: copperplate gothic light\,sans-serif\;">Come celebrate Oktoberfest at the Helen\, GA Festhalle features German Oom-pah bands that play waltzes\, polkas and the &ldquo\;Chicken Dance&rdquo\;. Enjoy a German feast which includes </span><span style="font-family: copperplate gothic light\,sans-serif\;">one wurst (your Choice)\, sauerkraut\, and one side (red cabbage or German potato salad)\, dessert (German Chocolate cake or cheesecake)\, and a beverage (excluding beer and wine).</span></span>
LOCATION:Departing Blairsville Park & Ride to Helen\, GA
UID:e.256.44325
SEQUENCE:3
DTSTAMP:20260423T103143Z
URL:https://members.visitblairsvillega.com/events/details/oktoberfest-limo-tour-10-25-2015-44325
END:VEVENT

END:VCALENDAR
