BEGIN:VCALENDAR
VERSION:2.0
PRODID:-//ChamberMaster//Event Calendar 2.0//EN
METHOD:PUBLISH
X-PUBLISHED-TTL:P3D
REFRESH-INTERVAL:P3D
CALSCALE:GREGORIAN
BEGIN:VEVENT
DTSTART:20131217T230000Z
DTEND:20131218T000000Z
X-MICROSOFT-CDO-ALLDAYEVENT:FALSE
SUMMARY:Old Fashioned Christmas Caroling on the Square
DESCRIPTION:2nd Annual Christmas Caroling on the Square\n\n	  \n\n	 Join us for some old-fashioned Christmas Caroling in downtown Blairsville. Sing with us or sit and enjoy the sounds of the season!
X-ALT-DESC;FMTTYPE=text/html:<div style="color: gray\;">\n	<span style="font-size: 16px\;"><strong><span style="font-family: comic sans ms\;"><span style="color: rgb(0\, 0\, 0)\;">&nbsp\;2nd</span><span style="font-style: italic\; font-weight: bold\; language: en-us\;"><span style="color: black\;"> Annual Christmas </span></span><span style="font-style: italic\; font-weight: bold\; language: en-us\;"><span style="color: black\;">Caroling on the Square</span></span></span></strong></span><br />\n	&nbsp\;&nbsp\;<br />\n	<span style="font-size: 16px\;">&nbsp\;<span style="color: rgb(0\, 0\, 0)\;"><span style="font-style: italic\; font-weight: bold\; language: en-us\;"><span style="font-family: goudy old style\;">Join us for some old-fashioned Christmas Caroling in downtown Blairsville.&nbsp\;</span></span></span></span><span style="color: rgb(0\, 0\, 0)\;"><span style="font-size: 16px\;"><span style="font-style: italic\; font-weight: bold\; language: en-us\;"><span style="font-family: goudy old style\;">Sing with us or sit and enjoy the sounds </span></span></span><span style="font-size: 16px\;"><span style="font-style: italic\; font-weight: bold\; language: en-us\;"><span style="font-family: goudy old style\;">of the season!</span></span></span></span>\n	<h4>\n		<span style="font-size: 16px\;">&nbsp\;</span></h4>\n	&nbsp\;&nbsp\;<br />\n	&nbsp\;</div>\n
LOCATION:Downtown Blairsville on the Square
UID:e.256.20572
SEQUENCE:3
DTSTAMP:20260424T194332Z
URL:https://members.visitblairsvillega.com/events/details/old-fashioned-christmas-caroling-on-the-square-12-17-2013-20572
END:VEVENT

END:VCALENDAR
