BEGIN:VCALENDAR
VERSION:2.0
PRODID:-//ChamberMaster//Event Calendar 2.0//EN
METHOD:PUBLISH
X-PUBLISHED-TTL:P3D
REFRESH-INTERVAL:P3D
CALSCALE:GREGORIAN
BEGIN:VEVENT
DTSTART:20161220T223000Z
DTEND:20161220T233000Z
X-MICROSOFT-CDO-ALLDAYEVENT:FALSE
SUMMARY:Old Fashioned Christmas Caroling on the Square
DESCRIPTION:Christmas Caroling on the Square\n\nJoin us for some old-fashioned Christmas Caroling in downtown Blairsville. Sing with us or sit and enjoy the sounds of the season!
X-ALT-DESC;FMTTYPE=text/html:<div style="color: gray\;"><span style="font-size: 16px\;"><strong><span style="font-family: comic sans ms\;"><span style="color: rgb(0\, 0\, 0)\;">&nbsp\;</span><span style="font-style: italic\; font-weight: bold\; language: en-us\;"><span style="color: black\;">Christmas </span></span><span style="font-style: italic\; font-weight: bold\; language: en-us\;"><span style="color: black\;">Caroling on the Square</span></span></span></strong></span><br />\n<span style="font-size: 16px\;"><span style="color: rgb(0\, 0\, 0)\;"><span style="font-style: italic\; font-weight: bold\; language: en-us\;"><span style="font-family: goudy old style\;">Join us for some old-fashioned Christmas Caroling in downtown Blairsville.&nbsp\;</span></span></span></span><span style="color: rgb(0\, 0\, 0)\;"><span style="font-size: 16px\;"><span style="font-style: italic\; font-weight: bold\; language: en-us\;"><span style="font-family: goudy old style\;">Sing with us or sit and enjoy the sounds </span></span></span><span style="font-size: 16px\;"><span style="font-style: italic\; font-weight: bold\; language: en-us\;"><span style="font-family: goudy old style\;">of the season!</span></span></span></span>\n\n<h4><span style="font-size: 16px\;">&nbsp\;</span></h4>\n&nbsp\;&nbsp\;<br />\n&nbsp\;</div>\n
LOCATION:Downtown Blairsville on the Square
UID:e.256.44336
SEQUENCE:3
DTSTAMP:20260420T094304Z
URL:https://members.visitblairsvillega.com/events/details/old-fashioned-christmas-caroling-on-the-square-12-22-2015-44336
END:VEVENT

END:VCALENDAR
