BEGIN:VCALENDAR
VERSION:2.0
PRODID:-//ChamberMaster//Event Calendar 2.0//EN
METHOD:PUBLISH
X-PUBLISHED-TTL:P3D
REFRESH-INTERVAL:P3D
CALSCALE:GREGORIAN
BEGIN:VEVENT
DTSTART:20170821T160000Z
DTEND:20170821T220000Z
X-MICROSOFT-CDO-ALLDAYEVENT:FALSE
SUMMARY:Once In A Lifetime Cosmic Event at Hightower Creek Vineyards
DESCRIPTION:Come out to Hightower Creek Vineyards and black out with us as we watch the once in a lifetime cosmic event\, the total solar eclipse take place over the vineyard!\n\n21 and over $25.00 per person and includes a glass of wine and receive a free pair of solar eclipse viewing sunglasses! 21 and under $15.00 per person and includes a free pair of solar eclipse viewing glasses!\n\nWe are currently taking reservations for up to 80 people. Reservations must be paid for in advance to guarantee admission. Gate to property will be open at 10 am on the day of the event. Bring a lawn or camping chair or blanket if you'd like to sit out in the yard or vineyard to enjoy an unobstructed view of the eclipse!\n\nWe cant wait to enjoy this awesome cosmic experience with everyone! Call 706-896-8963during business hours to make reservations.
X-ALT-DESC;FMTTYPE=text/html:<p>Come out to Hightower Creek Vineyards and black out with us as we watch the once in a lifetime cosmic event\, the total solar eclipse take place over the vineyard!</p>\n\n<p>21 and over $25.00 per person and includes a glass of wine and receive a free pair of solar eclipse viewing sunglasses! 21 and under $15.00 per person and includes a free pair of solar eclipse viewing glasses!</p>\n\n<p>We are currently taking reservations for up to 80 people. Reservations must be paid for in advance to guarantee admission. Gate to property will be open at 10 am on the day of the event. Bring a lawn or camping chair or blanket if you&rsquo\;d like to sit out in the yard or vineyard to enjoy an unobstructed view of the eclipse!</p>\n\n<p>We cant wait to enjoy this awesome cosmic experience with everyone! Call&nbsp\;<a href="tel:706-896-8963" style="box-sizing: border-box\; word-wrap: break-word\; background-color: transparent\; color: rgb(120\, 151\, 65)\; text-decoration: none\; background-position: initial initial\; background-repeat: initial initial\;">706-896-8963</a>during business hours to make reservations.</p>\n
LOCATION:7150 Canaan Drive Hiawassee\, GA 30546
UID:e.256.75399
SEQUENCE:3
DTSTAMP:20260419T195447Z
URL:https://members.visitblairsvillega.com/events/details/once-in-a-lifetime-cosmic-event-at-hightower-creek-vineyards-75399
END:VEVENT

END:VCALENDAR
