BEGIN:VCALENDAR
VERSION:2.0
PRODID:-//ChamberMaster//Event Calendar 2.0//EN
METHOD:PUBLISH
X-PUBLISHED-TTL:P3D
REFRESH-INTERVAL:P3D
CALSCALE:GREGORIAN
BEGIN:VEVENT
DTSTART:20160207T000000Z
DTEND:20160207T020000Z
X-MICROSOFT-CDO-ALLDAYEVENT:FALSE
SUMMARY:Once Upon A Wish
DESCRIPTION:Join us for a party with all your favorite princesses and heroes as we celebrate dreams\, wishes and the excitement that comes with living in a fairytale. Come dressed as your favorite character and enjoy light refreshments as you participate in this live\, interactive stage show\, but be careful\, because there are a couple of villains lurking in the shadows that will do anything to keep us from our happily-ever-afters. Space is limited\, so reservations are suggested and can be made at the theatre box office by calling 828-524-1598. This event takes place on the SMCPA stage with tables available for groups of six or less. Some smaller groups may be combined to allow the maximum number of participants. Everyone in attendance will need a ticket. Come sing\, dance and celebrate! Presented by the Overlook Theatre Company
X-ALT-DESC;FMTTYPE=text/html:Join us for a party with all your favorite princesses and heroes as we celebrate dreams\, wishes and the excitement that comes with living in a fairytale. Come dressed as your favorite character and enjoy light refreshments as you participate in this live\, interactive stage show\, but be careful\, because there are a couple of villains lurking in the shadows that will do anything to keep us from our happily-ever-afters. Space is limited\, so reservations are suggested and can be made at the theatre box office by calling 828-524-1598. This event takes place on the SMCPA stage with tables available for groups of six or less. Some smaller groups may be combined to allow the maximum number of participants. Everyone in attendance will need a ticket. Come sing\, dance and celebrate! Presented by the Overlook Theatre Company
LOCATION:Smoky Mountain Center for the Performing Arts 1028 Georgia Road Franklin\, NC 28734
UID:e.256.45916
SEQUENCE:3
DTSTAMP:20260421T055632Z
URL:https://members.visitblairsvillega.com/events/details/once-upon-a-wish-02-06-2016-45916
END:VEVENT

END:VCALENDAR
