BEGIN:VCALENDAR
VERSION:2.0
PRODID:-//ChamberMaster//Event Calendar 2.0//EN
METHOD:PUBLISH
X-PUBLISHED-TTL:P3D
REFRESH-INTERVAL:P3D
CALSCALE:GREGORIAN
BEGIN:VEVENT
DTSTART:20141030T170000Z
DTEND:20141030T190000Z
X-MICROSOFT-CDO-ALLDAYEVENT:FALSE
SUMMARY:Open Drawing & Painting Class
DESCRIPTION:Open drawing & painting class open to everyone!  All supplies included\, just bring your playful and creative side\, and a friend! This class is meant to be as much fun as instructional and you're encouraged to wear play clothes!
X-ALT-DESC;FMTTYPE=text/html:<span style="font-family:calibri\,sans-serif\;"><span style="font-size:11.0pt\;">Open drawing &amp\; painting class open to everyone!&nbsp\; All supplies included\, just bring your playful and creative side\, and a friend! This class is meant to be as much fun as instructional and you&#39\;re encouraged to wear play clothes!</span></span>
LOCATION:Inspire Art Studio 51 Earnest St. Suite C
UID:e.256.27518
SEQUENCE:3
DTSTAMP:20260424T045040Z
URL:https://members.visitblairsvillega.com/events/details/open-drawing-painting-class-10-30-2014-27518
END:VEVENT

END:VCALENDAR
