BEGIN:VCALENDAR
VERSION:2.0
PRODID:-//ChamberMaster//Event Calendar 2.0//EN
METHOD:PUBLISH
X-PUBLISHED-TTL:P3D
REFRESH-INTERVAL:P3D
CALSCALE:GREGORIAN
BEGIN:VEVENT
DTSTART;VALUE=DATE:20131221
DTEND;VALUE=DATE:20131225
TRANSP:TRANSPARENT
X-MICROSOFT-CDO-ALLDAYEVENT:TRUE
SUMMARY:Open House
DESCRIPTION:Christmas Open House & Sale on Saturday\, December 21st from 9am-5pm.  Sale will continue through December 24th.
X-ALT-DESC;FMTTYPE=text/html:Christmas Open House &amp\; Sale on Saturday\, December 21st from 9am-5pm. &nbsp\;Sale will continue through December 24th. &nbsp\;
LOCATION:Goldhagen Art Glass Studio
UID:e.256.20812
SEQUENCE:3
DTSTAMP:20260424T194034Z
URL:https://members.visitblairsvillega.com/events/details/open-house-12-21-2013-20812
END:VEVENT

END:VCALENDAR
