BEGIN:VCALENDAR
VERSION:2.0
PRODID:-//ChamberMaster//Event Calendar 2.0//EN
METHOD:PUBLISH
X-PUBLISHED-TTL:P3D
REFRESH-INTERVAL:P3D
CALSCALE:GREGORIAN
BEGIN:VEVENT
DTSTART:20171109T233000Z
DTEND:20171110T013000Z
X-MICROSOFT-CDO-ALLDAYEVENT:FALSE
SUMMARY:Open House & 2018 Season Kick-Off
DESCRIPTION:Join us as we announce our 2018 season line up. Enjoy refreshments\, live entertainment and advanced specials on upcoming event tickets. Also\, become a member of our 2018 patron club and start planning your show calendar for the upcoming year. Lots of fun\, great prizes and giveaways too! Don't miss out on all the excitement!
X-ALT-DESC;FMTTYPE=text/html:Join us as we announce our 2018 season line up. Enjoy refreshments\, live entertainment and advanced specials on upcoming event tickets. Also\, become a member of our 2018 patron club and start planning your show calendar for the upcoming year. Lots of fun\, great prizes and giveaways too! Don&#39\;t miss out on all the excitement!
LOCATION:Smoky Mountain Center for the Performing Arts 1028 Georgia Road Franklin\, NC 28734
UID:e.256.75371
SEQUENCE:3
DTSTAMP:20260419T155932Z
URL:https://members.visitblairsvillega.com/events/details/open-house-2018-season-kick-off-75371
END:VEVENT

END:VCALENDAR
