BEGIN:VCALENDAR
VERSION:2.0
PRODID:-//ChamberMaster//Event Calendar 2.0//EN
METHOD:PUBLISH
X-PUBLISHED-TTL:P3D
REFRESH-INTERVAL:P3D
CALSCALE:GREGORIAN
BEGIN:VEVENT
DTSTART:20140628T150000Z
DTEND:20140628T180000Z
X-MICROSOFT-CDO-ALLDAYEVENT:FALSE
SUMMARY:Open House at Brasstown Manor
DESCRIPTION:You Are Invited!\n\nOPEN HOUSE Brasstown Manor\n\nSaturday\, June\, 28\, 2014\n\n11:00am - 2:00pm\n\n\n\nSenior Living on your terms We offer Independent Living and 3 - levels of Assisted Living Come and see for yourself how beautiful retirement can be\n\n	Take a Tour of our model apartments\n	Register to win a beautiful Gift Basket\n	Refreshments
X-ALT-DESC;FMTTYPE=text/html:<strong><em>You Are Invited!</em></strong><br />\n<strong>OPEN HOUSE Brasstown Manor</strong><br />\nSaturday\, June\, 28\, 2014<br />\n11:00am - 2:00pm<br />\n<br />\nSenior Living on your terms We offer Independent Living and 3 - levels of Assisted Living Come and see for yourself how beautiful retirement can be\n<ul>\n	<li><strong>Take a Tour of our model apartments</strong></li>\n	<li><strong>Register to win a beautiful Gift Basket</strong></li>\n	<li><strong>Refreshments </strong></li>\n</ul>\n
LOCATION:Brasstown Manor Retirement Community 108 Church Street Hiawassee\, GA
UID:e.256.24862
SEQUENCE:3
DTSTAMP:20260424T105106Z
URL:https://members.visitblairsvillega.com/events/details/open-house-at-brasstown-manor-06-28-2014-24862
END:VEVENT

END:VCALENDAR
