BEGIN:VCALENDAR
VERSION:2.0
PRODID:-//ChamberMaster//Event Calendar 2.0//EN
METHOD:PUBLISH
X-PUBLISHED-TTL:P3D
REFRESH-INTERVAL:P3D
CALSCALE:GREGORIAN
BEGIN:VEVENT
DTSTART:20150815T140000Z
DTEND:20150815T180000Z
X-MICROSOFT-CDO-ALLDAYEVENT:FALSE
SUMMARY:Open House at Tri-State Model Railroader's
DESCRIPTION:The model railroad layout depicting Tri-State railroading in the early 1950's will be in operation and the public is invited to come enjoy the representation\, learn how railroads played such an important role in the development of this area and to learn the unique history of the restored beautiful brick depot.
X-ALT-DESC;FMTTYPE=text/html:The model railroad layout depicting Tri-State railroading in the early 1950&#39\;s will be in operation and the public is invited to come enjoy the representation\, learn how railroads played such an important role in the development of this area and to learn the unique history of the restored beautiful brick depot.
LOCATION:Located at the Historic Mineral Bluff Depot at: 150 Railroad Ave Mineral Bluff\, GA
UID:e.256.41338
SEQUENCE:3
DTSTAMP:20260423T151215Z
URL:https://members.visitblairsvillega.com/events/details/open-house-at-tri-state-model-railroader-s-08-15-2015-41338
END:VEVENT

END:VCALENDAR
