BEGIN:VCALENDAR
VERSION:2.0
PRODID:-//ChamberMaster//Event Calendar 2.0//EN
METHOD:PUBLISH
X-PUBLISHED-TTL:P3D
REFRESH-INTERVAL:P3D
CALSCALE:GREGORIAN
BEGIN:VEVENT
DTSTART:20141129T160000Z
DTEND:20141129T220000Z
X-MICROSOFT-CDO-ALLDAYEVENT:FALSE
SUMMARY:Open House Blue Ridge Art Center
DESCRIPTION:The Art Center will be hosting our Annual Holiday Open House this Saturday\, November 29th from 11am-5pm.\n\nLight fare provided as you enjoy our Holiday Show and Sale exhibit.\n\n1pm - The Smokie Mountain Melodies Chorus will be performing Christmas songs and carols in our Richard Low Evans main gallery.\n\n1pm - 5pm - Portrait and Silhouette artist Julie Burton will be on hand at the Art Center ready to paint your perfect family portrait.\n\nA portion of the proceeds from portrait sales goes to our 'Creative Gifts Program' that helps provide local children in need with creative gifts during the holidays.
X-ALT-DESC;FMTTYPE=text/html:The Art Center will be hosting our Annual Holiday Open House this Saturday\, November 29th from 11am-5pm.<br />\nLight fare provided as you enjoy our Holiday Show and Sale exhibit.<br />\n1pm - The Smokie Mountain Melodies Chorus will be performing Christmas songs and carols in our Richard Low Evans main gallery.<br />\n1pm - 5pm - Portrait and Silhouette artist Julie Burton will be on hand at the Art Center ready to paint your perfect family portrait.<br />\nA portion of the proceeds from portrait sales goes to our &#39\;Creative Gifts Program&#39\; that helps provide local children in need with creative gifts during the holidays.
LOCATION:Blue Ridge Arts Center 420 West Main Street Blue Ridge\, GA 30513
UID:e.256.28046
SEQUENCE:3
DTSTAMP:20260424T033600Z
URL:https://members.visitblairsvillega.com/events/details/open-house-blue-ridge-art-center-11-29-2014-28046
END:VEVENT

END:VCALENDAR
