BEGIN:VCALENDAR
VERSION:2.0
PRODID:-//ChamberMaster//Event Calendar 2.0//EN
METHOD:PUBLISH
X-PUBLISHED-TTL:P3D
REFRESH-INTERVAL:P3D
CALSCALE:GREGORIAN
BEGIN:VEVENT
DTSTART;VALUE=DATE:20140131
DTEND;VALUE=DATE:20140201
TRANSP:TRANSPARENT
X-MICROSOFT-CDO-ALLDAYEVENT:TRUE
SUMMARY:Open House ENOTA
DESCRIPTION:Enotah CASA is having an information Open House at the First Presbyterian Church in Cleveland on January 31\, 2014.  Come see what it's all about and find out how you can help abused and neglected children right here in our community.\n\nFor more information call 706-864-0300 or email to dyann@enotahcasa.org \n\n\n\nEnotah CASA\, Inc.\n\nDahlonega\, Georgia 30533\n\n706-864-0300\n\n\n\nEnotah CASA New Voluneer Certification Class forming soon! February 4\, 2014
X-ALT-DESC;FMTTYPE=text/html:Enotah CASA is having an information Open House at the First Presbyterian Church in Cleveland on January 31\, 2014.&nbsp\; Come see what it&#39\;s all about and find out how you can help abused and neglected children right here in our community.<br />\nFor more information call 706-864-0300 or email to dyann@enotahcasa.org&nbsp\;<br />\n<br />\nEnotah CASA\, Inc.<br />\nDahlonega\, Georgia 30533<br />\n706-864-0300<br />\n<br />\nEnotah CASA New Voluneer Certification Class forming soon! February 4\, 2014<br />\n<br type="_moz" />\n
LOCATION:First Presbyterian Church Cleveland\, GA
UID:e.256.21853
SEQUENCE:3
DTSTAMP:20260424T181407Z
URL:https://members.visitblairsvillega.com/events/details/open-house-enota-01-31-2014-21853
END:VEVENT

END:VCALENDAR
