BEGIN:VCALENDAR
VERSION:2.0
PRODID:-//ChamberMaster//Event Calendar 2.0//EN
METHOD:PUBLISH
X-PUBLISHED-TTL:P3D
REFRESH-INTERVAL:P3D
CALSCALE:GREGORIAN
BEGIN:VEVENT
DTSTART:20151029T213000Z
DTEND:20151029T230000Z
X-MICROSOFT-CDO-ALLDAYEVENT:FALSE
SUMMARY:Open House hosted by University of North Georgia Blue Ridge Campus
DESCRIPTION:Stop in and learn about academics\, admission\, student organizations and more!\n\nEnjoy meeting professors\, staff\, students and take a guided walking tour!
X-ALT-DESC;FMTTYPE=text/html:<span style="font-size: medium\;"><span style="font-family: calibri\;">Stop in and learn about academics\, admission\, student organizations and more!</span></span><br />\n<span style="font-size: medium\;"><span style="font-family: calibri\;">Enjoy meeting professors\, staff\, students and take a guided walking tour!</span></span><br />\n&nbsp\;
LOCATION:University of North Georgia Blue Ridge Campus located at 83 Dunbarton Farm Road Blue Ridge GA 30513
UID:e.256.44346
SEQUENCE:3
DTSTAMP:20260423T103911Z
URL:https://members.visitblairsvillega.com/events/details/open-house-hosted-by-university-of-north-georgia-blue-ridge-campus-10-29-2015-44346
END:VEVENT

END:VCALENDAR
