BEGIN:VCALENDAR
VERSION:2.0
PRODID:-//ChamberMaster//Event Calendar 2.0//EN
METHOD:PUBLISH
X-PUBLISHED-TTL:P3D
REFRESH-INTERVAL:P3D
CALSCALE:GREGORIAN
BEGIN:VEVENT
DTSTART:20140719T150000Z
DTEND:20140719T180000Z
X-MICROSOFT-CDO-ALLDAYEVENT:FALSE
SUMMARY:Open House @ Mountain Top Furniture & Accessories
DESCRIPTION:OPEN HOUSE on July 19th to celebrate the Opening of our upstairs showroom "The Bear Necessities." There will be Hot Dogs\, Hamburgers\, Chips and Snow Cones for the kids.\n\nPlease come join us From 11-2pm On Saturday July 19th!!
X-ALT-DESC;FMTTYPE=text/html:OPEN HOUSE on July 19th to celebrate the Opening of our upstairs showroom &quot\;<em><strong>The Bear Necessities</strong></em>.&quot\; There will be Hot Dogs\, Hamburgers\, Chips and Snow Cones for the kids.<br />\nPlease come join us From 11-2pm On Saturday July 19th!!
LOCATION:Mountain Top Furniture & Accessories 3733 Murphy Hwy ( 19/129N ) Blairsville
UID:e.256.24921
SEQUENCE:3
DTSTAMP:20260424T092301Z
URL:https://members.visitblairsvillega.com/events/details/open-house-mountain-top-furniture-accessories-07-19-2014-24921
END:VEVENT

END:VCALENDAR
