BEGIN:VCALENDAR
VERSION:2.0
PRODID:-//ChamberMaster//Event Calendar 2.0//EN
METHOD:PUBLISH
X-PUBLISHED-TTL:P3D
REFRESH-INTERVAL:P3D
CALSCALE:GREGORIAN
BEGIN:VEVENT
DTSTART:20140519T210000Z
DTEND:20140520T010000Z
X-MICROSOFT-CDO-ALLDAYEVENT:FALSE
SUMMARY:Open Mic - Monday
DESCRIPTION:Open Mic - Monday at Ugly Mug Cafe. Playing outside - bring a chair\, family and friends for a night of great music. Acoustic/Electric\n\nRain or Shine\n\nBenefit for the S.A.F.E. House (donations)\n\nDrop-Ins will be able to play based on available time/space\n\nHosted by DJ Cool Poppa & T.K.\n\nCall 706-745-4518 to register to play.
X-ALT-DESC;FMTTYPE=text/html:Open Mic - Monday at Ugly Mug Cafe.&nbsp\;Playing outside - bring a chair\, family and friends for a night of great music. Acoustic/Electric<br />\nRain or Shine<br />\nBenefit for the S.A.F.E. House (donations)<br />\nDrop-Ins will be able to play based on available time/space<br />\nHosted by DJ Cool Poppa &amp\; T.K.<br />\nCall 706-745-4518 to register to play.<br />\n&nbsp\;
LOCATION:Ugly Mug Cafe 3196 Hwy 515-E Victoria's Center Blairsville\, Ga
UID:e.256.24434
SEQUENCE:3
DTSTAMP:20260424T120133Z
URL:https://members.visitblairsvillega.com/events/details/open-mic-monday-05-19-2014-24434
END:VEVENT

END:VCALENDAR
