BEGIN:VCALENDAR
VERSION:2.0
PRODID:-//ChamberMaster//Event Calendar 2.0//EN
METHOD:PUBLISH
X-PUBLISHED-TTL:P3D
REFRESH-INTERVAL:P3D
CALSCALE:GREGORIAN
BEGIN:VEVENT
DTSTART:20140610T220000Z
DTEND:20140611T000000Z
X-MICROSOFT-CDO-ALLDAYEVENT:FALSE
SUMMARY:Open Painting Party
DESCRIPTION:Open Painting Party!  All supplies included\, just bring your playful and creative side\, and a friend! This class is meant to be as much fun as instructional and you're encouraged to wear play clothes!
X-ALT-DESC;FMTTYPE=text/html:<span style="font-family:calibri\,sans-serif\;"><span style="font-size:11.0pt\;">Open Painting Party!&nbsp\; All supplies included\, just bring your playful and creative side\, and a friend! This class is meant to be as much fun as instructional and you&#39\;re encouraged to wear play clothes!</span></span>
LOCATION:Inspire Art Studio 51 Earnest St. Suite C
UID:e.256.24603
SEQUENCE:3
DTSTAMP:20260424T104945Z
URL:https://members.visitblairsvillega.com/events/details/open-painting-party-06-10-2014-24603
END:VEVENT

END:VCALENDAR
