BEGIN:VCALENDAR
VERSION:2.0
PRODID:-//ChamberMaster//Event Calendar 2.0//EN
METHOD:PUBLISH
X-PUBLISHED-TTL:P3D
REFRESH-INTERVAL:P3D
CALSCALE:GREGORIAN
BEGIN:VEVENT
DTSTART:20140810T180000Z
DTEND:20140810T210000Z
X-MICROSOFT-CDO-ALLDAYEVENT:FALSE
SUMMARY:Open Painting Party
DESCRIPTION:Looking for a fun\, relaxing and colorful learning experience?\n\nA way to meet new people with similar interest?\n\nWell come to our Painting Party and bring home a complete work of art to keep or give as a gift! All supplies included\, just bring your playful and creative side\, and a friend! This class is meant to be as much fun as instructional and you're encouraged to wear play clothes!
X-ALT-DESC;FMTTYPE=text/html:<span style="font-family:calibri\,sans-serif\;"><span style="font-size:11.0pt\;">Looking for a fun\, relaxing and colorful learning experience?<br />\nA way to meet new people with similar interest?<br />\nWell come to our Painting Party and bring home a complete work of art to keep or give as a gift! All supplies included\, just bring your playful and creative side\, and a friend! This class is meant to be as much fun as instructional and you&#39\;re encouraged to wear play clothes!</span></span>
LOCATION:Inspire Art Studio 51 Earnest St. Suite C
UID:e.256.25515
SEQUENCE:3
DTSTAMP:20260424T073655Z
URL:https://members.visitblairsvillega.com/events/details/open-painting-party-08-10-2014-25515
END:VEVENT

END:VCALENDAR
