BEGIN:VCALENDAR
VERSION:2.0
PRODID:-//ChamberMaster//Event Calendar 2.0//EN
METHOD:PUBLISH
X-PUBLISHED-TTL:P3D
REFRESH-INTERVAL:P3D
CALSCALE:GREGORIAN
BEGIN:VEVENT
DTSTART:20141013T210000Z
DTEND:20141014T000000Z
X-MICROSOFT-CDO-ALLDAYEVENT:FALSE
SUMMARY:Operation Christmas Child Fundraiser
DESCRIPTION:Lighthouse Christian Academy will be hosting Fund Raiser Night at Zaxby's . Proceeds will go to Operation Christmas Child Shoe Box ministry
X-ALT-DESC;FMTTYPE=text/html:Lighthouse Christian Academy will be hosting Fund Raiser Night at Zaxby&#39\;s . Proceeds will go to Operation Christmas Child Shoe Box ministry
LOCATION:Zaxby's Blairsville
UID:e.256.27598
SEQUENCE:3
DTSTAMP:20260424T061400Z
URL:https://members.visitblairsvillega.com/events/details/operation-christmas-child-fundraiser-10-13-2014-27598
END:VEVENT

END:VCALENDAR
