BEGIN:VCALENDAR
VERSION:2.0
PRODID:-//ChamberMaster//Event Calendar 2.0//EN
METHOD:PUBLISH
X-PUBLISHED-TTL:P3D
REFRESH-INTERVAL:P3D
CALSCALE:GREGORIAN
BEGIN:VEVENT
DTSTART:20141009T213000Z
DTEND:20141009T223000Z
X-MICROSOFT-CDO-ALLDAYEVENT:FALSE
SUMMARY:Osteoporosis Prevention
DESCRIPTION:Topics covering ways to prevent bone softening in post menopausal ladies.
X-ALT-DESC;FMTTYPE=text/html:Topics covering ways to prevent bone softening in post menopausal ladies.
LOCATION:Union General Hospital\, Inc. 2nd Floor Classroom
UID:e.256.27575
SEQUENCE:3
DTSTAMP:20260424T045127Z
URL:https://members.visitblairsvillega.com/events/details/osteoporosis-prevention-10-09-2014-27575
END:VEVENT

END:VCALENDAR
