BEGIN:VCALENDAR
VERSION:2.0
PRODID:-//ChamberMaster//Event Calendar 2.0//EN
METHOD:PUBLISH
X-PUBLISHED-TTL:P3D
REFRESH-INTERVAL:P3D
CALSCALE:GREGORIAN
BEGIN:VEVENT
DTSTART:20140610T213000Z
DTEND:20140610T223000Z
X-MICROSOFT-CDO-ALLDAYEVENT:FALSE
SUMMARY:Osteoporsis Prevention
DESCRIPTION:Aging gracefully and how to prevent osteoporosis.
X-ALT-DESC;FMTTYPE=text/html:Aging gracefully and how to prevent osteoporosis.
LOCATION:Union General Hospital\, 2nd Floor Classroom
UID:e.256.24535
SEQUENCE:3
DTSTAMP:20260424T120348Z
URL:https://members.visitblairsvillega.com/events/details/osteoporsis-prevention-06-10-2014-24535
END:VEVENT

END:VCALENDAR
