BEGIN:VCALENDAR
VERSION:2.0
PRODID:-//ChamberMaster//Event Calendar 2.0//EN
METHOD:PUBLISH
X-PUBLISHED-TTL:P3D
REFRESH-INTERVAL:P3D
CALSCALE:GREGORIAN
BEGIN:VEVENT
DTSTART:20171028T220000Z
DTEND:20171029T010000Z
X-MICROSOFT-CDO-ALLDAYEVENT:FALSE
SUMMARY:Outdoor Movie Night & Costume Contest
DESCRIPTION:Come on out and enjoy a free movie with friends and family.
X-ALT-DESC;FMTTYPE=text/html:Come on out and enjoy a free movie with friends and family.
LOCATION:Downtown Blairsville
UID:e.256.66546
SEQUENCE:3
DTSTAMP:20260419T160719Z
URL:https://members.visitblairsvillega.com/events/details/outdoor-movie-night-costume-contest-66546
END:VEVENT

END:VCALENDAR
