BEGIN:VCALENDAR
VERSION:2.0
PRODID:-//ChamberMaster//Event Calendar 2.0//EN
METHOD:PUBLISH
X-PUBLISHED-TTL:P3D
REFRESH-INTERVAL:P3D
CALSCALE:GREGORIAN
BEGIN:VEVENT
DTSTART:20171101T223000Z
DTEND:20171102T010000Z
X-MICROSOFT-CDO-ALLDAYEVENT:FALSE
SUMMARY:Overflow Concert
DESCRIPTION:Contemporary Christian music at its best! First UMC's band\, Overflow\, from THE WELL will perform in the MAC on the FUMC campus. Everyone is invited to this all music event! Doors open at 6:30. Admission is free. Love offering.
X-ALT-DESC;FMTTYPE=text/html:Contemporary Christian music at its best! First UMC&#39\;s band\, Overflow\, from THE WELL will perform in the MAC on the FUMC campus. Everyone is invited to this all music event! Doors open at 6:30. Admission is free. Love offering.
LOCATION:938 Hwy 515 across from Meeks Park in Blairsville
UID:e.256.76501
SEQUENCE:3
DTSTAMP:20260419T135837Z
URL:https://members.visitblairsvillega.com/events/details/overflow-concert-76501
END:VEVENT

END:VCALENDAR
