BEGIN:VCALENDAR
VERSION:2.0
PRODID:-//ChamberMaster//Event Calendar 2.0//EN
METHOD:PUBLISH
X-PUBLISHED-TTL:P3D
REFRESH-INTERVAL:P3D
CALSCALE:GREGORIAN
BEGIN:VEVENT
DTSTART:20160910T233000Z
DTEND:20160911T013000Z
X-MICROSOFT-CDO-ALLDAYEVENT:FALSE
SUMMARY:Overlook Theatre Company's 20th Anniversary Celebration
DESCRIPTION:Join us as we remember and honor twenty years of wonderful shows\, spectacular memories\, hilarious stories and great friends as the Overlook Theatre Company celebrates two decades of magical stage performances with this retrospective concert. An evening full of great songs\, tons of fun and exciting surprises. 2016 SMCPA patron members are invited to a special post-show reception with the cast and crew immediately following the event. Presented by the Overlook Theatre Company
X-ALT-DESC;FMTTYPE=text/html:Join us as we remember and honor twenty years of wonderful shows\, spectacular memories\, hilarious stories and great friends as the Overlook Theatre Company celebrates two decades of magical stage performances with this retrospective concert. An evening full of great songs\, tons of fun and exciting surprises. 2016 SMCPA patron members are invited to a special post-show reception with the cast and crew immediately following the event. Presented by the Overlook Theatre Company
LOCATION:Smoky Mountain Center for the Performing Arts 1028 Georgia Road Franklin\, NC 28734
UID:e.256.49405
SEQUENCE:3
DTSTAMP:20260420T144901Z
URL:https://members.visitblairsvillega.com/events/details/overlook-theatre-company-s-20th-anniversary-celebration-09-10-2016-49405
END:VEVENT

END:VCALENDAR
