BEGIN:VCALENDAR
VERSION:2.0
PRODID:-//ChamberMaster//Event Calendar 2.0//EN
METHOD:PUBLISH
X-PUBLISHED-TTL:P3D
REFRESH-INTERVAL:P3D
CALSCALE:GREGORIAN
BEGIN:VEVENT
DTSTART:20161027T130000Z
DTEND:20161027T140000Z
X-MICROSOFT-CDO-ALLDAYEVENT:FALSE
SUMMARY:Overtime Rule Compliance Webinar
DESCRIPTION:Hear from a panel of business leaders and human resources professionals as they share their insight\, experiences and plans for implementing the new overtime law. This interactive conversation will allow attendees to ask questions .and gain information and resources specific to their business size and industry
X-ALT-DESC;FMTTYPE=text/html:Hear from a panel of business leaders and human resources professionals as they share their insight\, experiences and plans for implementing the new overtime law. This interactive conversation will allow attendees to ask questions .and gain information and resources specific to their business size and industry
LOCATION:Union County Community Center
UID:e.256.58182
SEQUENCE:3
DTSTAMP:20260420T130642Z
URL:https://members.visitblairsvillega.com/events/details/overtime-rule-compliance-webinar-58182
END:VEVENT

END:VCALENDAR
