BEGIN:VCALENDAR
VERSION:2.0
PRODID:-//ChamberMaster//Event Calendar 2.0//EN
METHOD:PUBLISH
X-PUBLISHED-TTL:P3D
REFRESH-INTERVAL:P3D
CALSCALE:GREGORIAN
BEGIN:VEVENT
DTSTART:20170514T200000Z
DTEND:20170515T000000Z
X-MICROSOFT-CDO-ALLDAYEVENT:FALSE
SUMMARY:PAELLA MOTHERS DAY SPECIAL
DESCRIPTION:PAELLA MOTHERS DAY WEEKEND \n\nSpanish seafood rice with pork\, chicken\, saffron\, mussels\, clams\, shrimp\, scallops\, crabmeat with Spanish seasoning from spain and latinomerica.  Come and join us  for this special treat and honor our mothers. You can bring your own  drinks at no charge.  Our Paella is famous and staple dish @ Nani's Cuban Restaurant.  Please call for reservations @706 745 0010
X-ALT-DESC;FMTTYPE=text/html:<span style="background-color:rgb(255\, 255\, 255)\; color:rgb(51\, 51\, 51)\; font-family:sans-serif\,arial\,verdana\,trebuchet ms\; font-size:13px">PAELLA MOTHERS DAY WEEKEND&nbsp\;</span><br />\n<span style="background-color:rgb(255\, 255\, 255)\; color:rgb(51\, 51\, 51)\; font-family:sans-serif\,arial\,verdana\,trebuchet ms\; font-size:13px">Spanish seafood rice with pork\, chicken\, saffron\, mussels\, clams\, shrimp\, scallops\, crabmeat with Spanish seasoning from spain and latinomerica. &nbsp\;Come and join us &nbsp\;for this special treat and honor our mothers. You can bring your own &nbsp\;drinks at no charge. &nbsp\;Our Paella is famous and staple dish @ Nani&#39\;s Cuban Restaurant. &nbsp\;Please call for reservations @706 745 0010&nbsp\;</span>
LOCATION:Nanis Cuban Restaurant 51 D EARNEST STREET BLAIRSVILLE\, GA 30512 706 745 0010
UID:e.256.72978
SEQUENCE:3
DTSTAMP:20260420T024135Z
URL:https://members.visitblairsvillega.com/events/details/paella-mothers-day-special-05-14-2017-72978
END:VEVENT

END:VCALENDAR
