BEGIN:VCALENDAR
VERSION:2.0
PRODID:-//ChamberMaster//Event Calendar 2.0//EN
METHOD:PUBLISH
X-PUBLISHED-TTL:P3D
REFRESH-INTERVAL:P3D
CALSCALE:GREGORIAN
BEGIN:VEVENT
DTSTART;VALUE=DATE:20160504
DTEND;VALUE=DATE:20160505
TRANSP:TRANSPARENT
X-MICROSOFT-CDO-ALLDAYEVENT:TRUE
SUMMARY:Paint the Town Purple for Relay
DESCRIPTION:Local businesses and residents of Blairsville will be displaying purple bows to raise cancer awareness in the community and to remind the residents that we are a Relay for Life community. Purple bows will be hung from poles\, mailboxes\, signs\, cars or anywhere they can be displayed to the public. All monies raised will be donated to Relay for Life of Union County.
X-ALT-DESC;FMTTYPE=text/html:Local businesses and residents of Blairsville will be displaying purple bows to raise cancer awareness in the community and to remind the residents that we are a Relay for Life community. Purple bows will be hung from poles\, mailboxes\, signs\, cars or anywhere they can be displayed to the public. All monies raised will be donated to Relay for Life of Union County.
LOCATION:Blairsville
UID:e.256.50939
SEQUENCE:3
DTSTAMP:20260420T222854Z
URL:https://members.visitblairsvillega.com/events/details/paint-the-town-purple-for-relay-05-04-2016-50939
END:VEVENT

END:VCALENDAR
