BEGIN:VCALENDAR
VERSION:2.0
PRODID:-//ChamberMaster//Event Calendar 2.0//EN
METHOD:PUBLISH
X-PUBLISHED-TTL:P3D
REFRESH-INTERVAL:P3D
CALSCALE:GREGORIAN
BEGIN:VEVENT
DTSTART:20141115T180000Z
DTEND:20141115T210000Z
X-MICROSOFT-CDO-ALLDAYEVENT:FALSE
SUMMARY:Painting Class for Beginner "Oils or Acrylics" You Decide!
DESCRIPTION:Painting Class for Absolute Beginner. Instructor Paula Canup of Hayesville\, NC will explain differences between oil and acrylic painting and students will complete 2 paintings in their class. Materials are provided by instructor for a small fee. Registration period ends Nov. 12.
X-ALT-DESC;FMTTYPE=text/html:Painting Class for Absolute Beginner. Instructor Paula Canup of Hayesville\, NC will explain differences between oil and acrylic painting and students will complete 2 paintings in their class. Materials are provided by instructor for a small fee. Registration period ends Nov. 12.
LOCATION:ArtWorks Artisan Centre 232B Chatuge Way Hiawassee Business Center Hiawassee Georgia
UID:e.256.27663
SEQUENCE:3
DTSTAMP:20260424T045450Z
URL:https://members.visitblairsvillega.com/events/details/painting-class-for-beginner-oils-or-acrylics-you-decide-11-15-2014-27663
END:VEVENT

END:VCALENDAR
