BEGIN:VCALENDAR
VERSION:2.0
PRODID:-//ChamberMaster//Event Calendar 2.0//EN
METHOD:PUBLISH
X-PUBLISHED-TTL:P3D
REFRESH-INTERVAL:P3D
CALSCALE:GREGORIAN
BEGIN:VEVENT
DTSTART:20140808T180000Z
DTEND:20140808T200000Z
X-MICROSOFT-CDO-ALLDAYEVENT:FALSE
SUMMARY:Painting for the Fun of It
DESCRIPTION:If you've always wanted to express yourself artistically and just need the opportunity\, this class is for you. Part open studio\, art beginner instruction\, part therapy! There's something for everyone in this low key\, fun\, and inspiring class to get your creative juices flowing. Learn about line\, sketching\, perspective\, light and shadow\, color\, design\, composition\, terminology\, and tools. We will complete a painting using acrylics on canvas.
X-ALT-DESC;FMTTYPE=text/html:<span style="color:black\;"><span style="font-family:verdana\,sans-serif\;"><span style="font-size:10.0pt\;">If </span>you&#39\;ve always wanted to express yourself artistically and just need the opportunity\, this class is for you. Part open studio\, art beginner instruction\, part therapy! There&#39\;s something for everyone in this low key\, fun\, and inspiring class to get your creative juices flowing. Learn about line\, sketching\, perspective\, light and shadow\, color\, design\, composition\, terminology\, and tools. We will complete a painting using acrylics on canvas.</span></span>
LOCATION:Blue Ridge Mountains Arts Association 420 W Main St. Blue Ridge\, GA 30513
UID:e.256.25516
SEQUENCE:3
DTSTAMP:20260424T074009Z
URL:https://members.visitblairsvillega.com/events/details/painting-for-the-fun-of-it-08-08-2014-25516
END:VEVENT

END:VCALENDAR
