BEGIN:VCALENDAR
VERSION:2.0
PRODID:-//ChamberMaster//Event Calendar 2.0//EN
METHOD:PUBLISH
X-PUBLISHED-TTL:P3D
REFRESH-INTERVAL:P3D
CALSCALE:GREGORIAN
BEGIN:VEVENT
DTSTART:20140907T180000Z
DTEND:20140907T200000Z
X-MICROSOFT-CDO-ALLDAYEVENT:FALSE
SUMMARY:Painting for the Fun of IT!
DESCRIPTION:September 7 (Sunday) 2:00 - 4:00 pm\n\nPainting for the Fun of It with Ellie Cowan\n\n$40 non-member + $10 supply fee\n\n*36 BRMAA Member + $10* supply fee\n\nIf you've always wanted to express yourself artistically and just need the opportunity\, this class is for you. Part open studio\, art beginner instruction\, part therapy! There's something for everyone in this low key\, fun\, and inspiring class to get your creative juices flowing. Learn about line\, sketching\, perspective\, light and shadow\, color\, design\, composition\, terminology\, and tools. We will complete a painting using acrylics on canvas.
X-ALT-DESC;FMTTYPE=text/html:September 7 (Sunday) 2:00 - 4:00 pm<br />\nPainting for the Fun of It with Ellie Cowan<br />\n$40 non-member + $10 supply fee<br />\n*36 BRMAA Member + $10* supply fee<br />\nIf you&#39\;ve always wanted to express yourself artistically and just need the opportunity\, this class is for you. Part open studio\, art beginner instruction\, part therapy! There&#39\;s something for everyone in this low key\, fun\, and inspiring class to get your creative juices flowing. Learn about line\, sketching\, perspective\, light and shadow\, color\, design\, composition\, terminology\, and tools. We will complete a painting using acrylics on canvas.
LOCATION:Blue Ridge Mountains Arts Association 420 West Main Street Blue Ridge\, GA 30513
UID:e.256.27302
SEQUENCE:3
DTSTAMP:20260424T063110Z
URL:https://members.visitblairsvillega.com/events/details/painting-for-the-fun-of-it-09-07-2014-27302
END:VEVENT

END:VCALENDAR
